BEGIN:VCALENDAR
VERSION:2.0
PRODID:-//Unity In Christ Ministries - ECPv6.15.20//NONSGML v1.0//EN
CALSCALE:GREGORIAN
METHOD:PUBLISH
X-ORIGINAL-URL:https://unityinchristministries.org
X-WR-CALDESC:Events for Unity In Christ Ministries
REFRESH-INTERVAL;VALUE=DURATION:PT1H
X-Robots-Tag:noindex
X-PUBLISHED-TTL:PT1H
BEGIN:VTIMEZONE
TZID:America/Los_Angeles
BEGIN:DAYLIGHT
TZOFFSETFROM:-0800
TZOFFSETTO:-0700
TZNAME:PDT
DTSTART:20180311T100000
END:DAYLIGHT
BEGIN:STANDARD
TZOFFSETFROM:-0700
TZOFFSETTO:-0800
TZNAME:PST
DTSTART:20181104T090000
END:STANDARD
BEGIN:DAYLIGHT
TZOFFSETFROM:-0800
TZOFFSETTO:-0700
TZNAME:PDT
DTSTART:20190310T100000
END:DAYLIGHT
BEGIN:STANDARD
TZOFFSETFROM:-0700
TZOFFSETTO:-0800
TZNAME:PST
DTSTART:20191103T090000
END:STANDARD
BEGIN:DAYLIGHT
TZOFFSETFROM:-0800
TZOFFSETTO:-0700
TZNAME:PDT
DTSTART:20200308T100000
END:DAYLIGHT
BEGIN:STANDARD
TZOFFSETFROM:-0700
TZOFFSETTO:-0800
TZNAME:PST
DTSTART:20201101T090000
END:STANDARD
BEGIN:DAYLIGHT
TZOFFSETFROM:-0800
TZOFFSETTO:-0700
TZNAME:PDT
DTSTART:20210314T100000
END:DAYLIGHT
BEGIN:STANDARD
TZOFFSETFROM:-0700
TZOFFSETTO:-0800
TZNAME:PST
DTSTART:20211107T090000
END:STANDARD
BEGIN:DAYLIGHT
TZOFFSETFROM:-0800
TZOFFSETTO:-0700
TZNAME:PDT
DTSTART:20220313T100000
END:DAYLIGHT
BEGIN:STANDARD
TZOFFSETFROM:-0700
TZOFFSETTO:-0800
TZNAME:PST
DTSTART:20221106T090000
END:STANDARD
BEGIN:DAYLIGHT
TZOFFSETFROM:-0800
TZOFFSETTO:-0700
TZNAME:PDT
DTSTART:20230312T100000
END:DAYLIGHT
BEGIN:STANDARD
TZOFFSETFROM:-0700
TZOFFSETTO:-0800
TZNAME:PST
DTSTART:20231105T090000
END:STANDARD
BEGIN:DAYLIGHT
TZOFFSETFROM:-0800
TZOFFSETTO:-0700
TZNAME:PDT
DTSTART:20240310T100000
END:DAYLIGHT
BEGIN:STANDARD
TZOFFSETFROM:-0700
TZOFFSETTO:-0800
TZNAME:PST
DTSTART:20241103T090000
END:STANDARD
BEGIN:DAYLIGHT
TZOFFSETFROM:-0800
TZOFFSETTO:-0700
TZNAME:PDT
DTSTART:20250309T100000
END:DAYLIGHT
BEGIN:STANDARD
TZOFFSETFROM:-0700
TZOFFSETTO:-0800
TZNAME:PST
DTSTART:20251102T090000
END:STANDARD
END:VTIMEZONE
BEGIN:VEVENT
DTSTART;TZID=America/Los_Angeles:20241123T090000
DTEND;TZID=America/Los_Angeles:20241123T120000
DTSTAMP:20260423T083116
CREATED:20241105T230506Z
LAST-MODIFIED:20241108T214046Z
UID:1285-1732352400-1732363200@unityinchristministries.org
SUMMARY:Thanksgiving Turkey Drive-Through Giveway
DESCRIPTION:We are providing free turkeys and food boxes to a select number of families to ensure everyone can enjoy a hearty Thanksgiving meal. \nDrive-Through Convenience\nThis event is a drive-through to ensure safety and convenience. Simply drive up\, and our volunteers will load your turkey and food box into your car. \nRegistration Required\nRegister only for the Turkey Giveaway\, not for the food boxes. Its 1st come\, 1st serve\, while supplies last. Only one turkey per family. \nWe need your help to make this event a success. If you’re interested in volunteering\, please reach out to us. Your support will help us bring joy and a Thanksgiving meal to families in need.
URL:https://unityinchristministries.org/event/thanksgiving-turkey-drive-through-giveway/
LOCATION:Unity in Christ Ministries\, 24735 Alessandro Blvd. Suite "B"\, Moreno Valley\, CA\, 92553\, United States
ATTACH;FMTTYPE=image/jpeg:https://unityinchristministries.org/wp-content/uploads/2024/11/24ThanksgivingTurkeyGiveaway_EVENT.jpg
ORGANIZER;CN="Unity in Christ Church":MAILTO:info@unityinchristministries.org
END:VEVENT
BEGIN:VEVENT
DTSTART;TZID=America/Los_Angeles:20240803T090000
DTEND;TZID=America/Los_Angeles:20240803T130000
DTSTAMP:20260423T083116
CREATED:20240701T005131Z
LAST-MODIFIED:20240730T134216Z
UID:1248-1722675600-1722690000@unityinchristministries.org
SUMMARY:Back to School Supply Giveaway
DESCRIPTION:We will be giving away school supplies for children in K-12 thru college students while supplies last.  There will be food\, fun and More!! You must register in order to receive supplies. Please join us!
URL:https://unityinchristministries.org/event/back-to-school-supply-giveaway/
LOCATION:Unity in Christ Ministries\, 24735 Alessandro Blvd. Suite "B"\, Moreno Valley\, CA\, 92553\, United States
ATTACH;FMTTYPE=image/jpeg:https://unityinchristministries.org/wp-content/uploads/2024/06/2024_BackPackGIVAWAY_event.jpg
ORGANIZER;CN="Unity in Christ Ministries":MAILTO:billy@unityinchristministries.org
END:VEVENT
BEGIN:VEVENT
DTSTART;TZID=America/Los_Angeles:20231216T110000
DTEND;TZID=America/Los_Angeles:20231216T150000
DTSTAMP:20260423T083116
CREATED:20231101T224950Z
LAST-MODIFIED:20231214T011455Z
UID:686-1702724400-1702738800@unityinchristministries.org
SUMMARY:Christmas Toy Drive
DESCRIPTION:This Christmas\, we will be faced with over 200 children in need of a small blessing and joyous compassion. As a Pastor\, my heart cries out for the less fortunate families in my community and their parents. \nWould you kindly help us meet the needs of these children and families experiencing economic hardship by making a tax-deductible donation before December 10\, 2023. \nOur goal is to raise $2\,500 so each one of these children can be blessed with a present this year on December 16th. Interested individuals or businesses can reach out to Pastor Billy Davis at billy@unityinchristministries.org
URL:https://unityinchristministries.org/event/christmas-toy-drive/
LOCATION:Unity in Christ Ministries\, 24735 Alessandro Blvd. Suite "B"\, Moreno Valley\, CA\, 92553\, United States
ATTACH;FMTTYPE=image/jpeg:https://unityinchristministries.org/wp-content/uploads/2023/10/UIC_EVENT_ToyDrive2.jpg
ORGANIZER;CN="Unity in Christ Ministries":MAILTO:billy@unityinchristministries.org
END:VEVENT
BEGIN:VEVENT
DTSTART;TZID=America/Los_Angeles:20231123T110000
DTEND;TZID=America/Los_Angeles:20231123T140000
DTSTAMP:20260423T083116
CREATED:20231101T224910Z
LAST-MODIFIED:20231117T003859Z
UID:682-1700737200-1700748000@unityinchristministries.org
SUMMARY:Thanksgiving Dinner
DESCRIPTION:Break out the turkey\, stuffing\, gravy\, cranberry sauce and pie…it’s Thanksgiving time!\nBut a grand Thanksgiving feast is often out of the question for many families in poverty. So the folks at Unity in Christ Ministries in Moreno Valley are doing their part to help ensure that families don’t go hungry this holiday season. \n“We just wanted to show some love\,” says Billy Davis\, the church’s pastor. We want to “show them that we believe in helping the community and those that might not have a thanksgiving meal\, we wanted to show them that we can serve them a Thanksgiving meal so that certainly they won’t be hungry.” \nIt’s freezing cold outside\, but inside the church\, the warmth is palpable. Sure the heater’s on\, but the general good vibes and hugs and smiles from the church volunteers also go a long way to make everyone feel warm and welcome.
URL:https://unityinchristministries.org/event/thanksgiving-dinner/
LOCATION:Unity in Christ Ministries\, 24735 Alessandro Blvd. Suite "B"\, Moreno Valley\, CA\, 92553\, United States
ATTACH;FMTTYPE=image/jpeg:https://unityinchristministries.org/wp-content/uploads/2023/11/UIC_EVENT_Thanksgiving3.jpg
ORGANIZER;CN="Unity in Christ Ministries":MAILTO:billy@unityinchristministries.org
END:VEVENT
BEGIN:VEVENT
DTSTART;TZID=America/Los_Angeles:20190810T110000
DTEND;TZID=America/Los_Angeles:20190810T143000
DTSTAMP:20260423T083116
CREATED:20190607T203348Z
LAST-MODIFIED:20190808T193532Z
UID:434-1565434800-1565447400@unityinchristministries.org
SUMMARY:Back to School Backpack Giveaway
DESCRIPTION:We will be giving away school supplies for children in K-12 thru college students while supplies last. Please join us. There will be food\, fun and More!! You must register in order to receive supplies. Because of the enormous response\, registration is full and now closed for this event. \n 
URL:https://unityinchristministries.org/event/back-to-school-backpack-giveaway/
LOCATION:Unity in Christ Ministries\, 24735 Alessandro Blvd. Suite "B"\, Moreno Valley\, CA\, 92553\, United States
ATTACH;FMTTYPE=image/jpeg:https://unityinchristministries.org/wp-content/uploads/2019/06/Backpack-Givaway-EVENT2.jpg
ORGANIZER;CN="Unity in Christ Church":MAILTO:info@unityinchristministries.org
END:VEVENT
BEGIN:VEVENT
DTSTART;TZID=America/Los_Angeles:20190504T083000
DTEND;TZID=America/Los_Angeles:20190504T130000
DTSTAMP:20260423T083116
CREATED:20190306T231213Z
LAST-MODIFIED:20190430T224240Z
UID:235-1556958600-1556974800@unityinchristministries.org
SUMMARY:On the Run for Christ Women's Conference
DESCRIPTION:On the Run for Christ Women’s Conference is for women from all walks of life. Leave with a renewed sense of purpose and fulfillment in Jesus\, our Creator. With guest speakers\, amazing worship\, and an opportunity to join together with women from all around the community\, we invite you and anyone else you know out to this event. \n  \n\n\n\n\n\nGuest Speakers\n\n\n\n\n\n\n\n\n\nMinister Jasmine Smith-Payne\nReverend Charlotte Woods\nMinister Leslie Willhite\n\n\n\nThere will be vendors present at this event\, including author Terri Michelle Hutchinson with her newly released book\, “Tried & Chosen.”
URL:https://unityinchristministries.org/event/on-the-run-for-christ-womens-conference/
LOCATION:Cottonwood Golf Center\, 13671 Frederick St.\, Moreno Valley\, CA\, United States
ATTACH;FMTTYPE=image/jpeg:https://unityinchristministries.org/wp-content/uploads/2019/03/womens-conference-2019-e1551919602500.jpg
ORGANIZER;CN="Unity in Christ Ministries":MAILTO:billy@unityinchristministries.org
END:VEVENT
BEGIN:VEVENT
DTSTART;TZID=America/Los_Angeles:20190421T090000
DTEND;TZID=America/Los_Angeles:20190421T090000
DTSTAMP:20260423T083116
CREATED:20190402T224723Z
LAST-MODIFIED:20190410T010004Z
UID:393-1555837200-1555837200@unityinchristministries.org
SUMMARY:He Has Risen Easter Celebration
DESCRIPTION:Hello my brothers and sisters. This is Pastor Billy Davis\, sending a special invitation to cordially accompany us\, UNITY IN CHRIST MINISTRIES\, in a spectacular Easter Sunday Service. We are celebrating our Lord\, who has Risen for each and every one of us. God accepts us in any size\, shape and form here at UNITY IN CHRIST. We keep that same mantra\, you don’t have to go and shop for your Sunday best. We at UNITY IN CHRIST MINISTRIES accept you just the way you are. You’re the MISSING PIECE to our Spectacular Easter Service.
URL:https://unityinchristministries.org/event/he-has-risen-easter-celebration/
LOCATION:Unity in Christ Ministries\, 24735 Alessandro Blvd. Suite "B"\, Moreno Valley\, CA\, 92553\, United States
ATTACH;FMTTYPE=image/jpeg:https://unityinchristministries.org/wp-content/uploads/2019/04/He-has-Risen-Event.jpg
ORGANIZER;CN="Unity in Christ Church":MAILTO:info@unityinchristministries.org
END:VEVENT
END:VCALENDAR